BEGIN:VCALENDAR
PRODID:-//eluceo/ical//2.0/EN
VERSION:2.0
CALSCALE:GREGORIAN
BEGIN:VEVENT
UID:db429eebe1144548ca1c905425ef0e19
DTSTAMP:20260422T113238Z
SUMMARY:Reena's Mental Health Symposium
DESCRIPTION:UJA Federation of Greater Toronto\nJewish Toronto Calendar\nhtt
 ps://jewishtoronto.com/calendar/reenas-mental-health-symposium-1681243587\
 n\nLocation:\nBeth Tzedec Congregation\n1700 Bathurst St. North York\, ON 
 M5P 3K3
DTSTART;TZID=America/Toronto:20230518T193000
DTEND;TZID=America/Toronto:20230518T213000
END:VEVENT
END:VCALENDAR
