BEGIN:VCALENDAR
PRODID:-//eluceo/ical//2.0/EN
VERSION:2.0
CALSCALE:GREGORIAN
BEGIN:VEVENT
UID:a02c2b21ef1b06bcce3153ee88480f6a
DTSTAMP:20260424T171459Z
SUMMARY:Reena Rumble
DESCRIPTION:UJA Federation of Greater Toronto\nJewish Toronto Calendar\nhtt
 ps://jewishtoronto.com/calendar/reena-rumble-1665683001\n\nToronto&#039\;s
  Biggest Charity Wrestling event is back! Once again\, Reena Foundation ha
 s teamed up with Magen Boys Entertainment to bring you wrestling superstar
 s from the past\, present and future.Tickets on sale now. Sponsorship oppo
 rtunities available.
DTSTART;TZID=America/Toronto:20221122T180000
DTEND;TZID=America/Toronto:20221122T220000
END:VEVENT
END:VCALENDAR
