BEGIN:VCALENDAR
PRODID:-//eluceo/ical//2.0/EN
VERSION:2.0
CALSCALE:GREGORIAN
BEGIN:VEVENT
UID:7e18419210d80a1357fd91cc8e47dbb5
DTSTAMP:20260423T014758Z
SUMMARY:Prophetic Voices - Renewing and Reimagining Haftarah (In-Person & V
 irtual)
DESCRIPTION:UJA Federation of Greater Toronto\nJewish Toronto Calendar\nhtt
 ps://jewishtoronto.com/calendar/prophetic-voices---renewing-and-reimaginin
 g-haftarah-in-person--virtual-1679942809\n\nA Temple Sinai Program: Prophe
 tic Voices - Renewing and Reimagining Haftarah (In-Person & Virtual) Satur
 days at 12.00 p.m. (April 8 to May 20)Each week between Pesach and Shavuot
 \, instead of our usual Chevrat Torah Study\, we’ll be taking a look at 
 the themes in our haftarah portions and the creative\, modern\, alternativ
 e way to interpret these readings.For more information and to register ple
 ase visit www.templesinai.net\, call the Temple office at 416.487.4161 or 
 email david@templesinai.net.
DTSTART;TZID=America/Toronto:20230408T120000
DTEND;TZID=America/Toronto:20230408T123000
END:VEVENT
END:VCALENDAR
