BEGIN:VCALENDAR
PRODID:-//eluceo/ical//2.0/EN
VERSION:2.0
CALSCALE:GREGORIAN
BEGIN:VEVENT
UID:a9d6eee5454661d2fce16600359a406a
DTSTAMP:20260422T235455Z
SUMMARY:Pre-Pesach Wine Tasting and Social - Beth Sholom
DESCRIPTION:UJA Federation of Greater Toronto\nJewish Toronto Calendar\nhtt
 ps://jewishtoronto.com/calendar/pre-pesach-wine-tasting-and-social---beth-
 sholom-1677533559\n\nCome out to view our selection of Kosher for Pesach C
 aterers and Wine Experts too.  Place your Kosher for Pesach Orders !!!
DTSTART;TZID=America/Toronto:20230309T190000
DTEND;TZID=America/Toronto:20230309T210000
END:VEVENT
END:VCALENDAR
