BEGIN:VCALENDAR
PRODID:-//eluceo/ical//2.0/EN
VERSION:2.0
CALSCALE:GREGORIAN
BEGIN:VEVENT
UID:6a593f84c2c73b50f8df45a931ec3521
DTSTAMP:20260424T075639Z
SUMMARY:POP-UP 2023
DESCRIPTION:UJA Federation of Greater Toronto\nJewish Toronto Calendar\nhtt
 ps://jewishtoronto.com/calendar/pop-up-2023-1683125630\n\nJoin us when we 
 celebrate fashion\, cars and fine art!
DTSTART;TZID=America/Toronto:20230816T180000
DTEND;TZID=America/Toronto:20230816T200000
END:VEVENT
END:VCALENDAR
