BEGIN:VCALENDAR
PRODID:-//eluceo/ical//2.0/EN
VERSION:2.0
CALSCALE:GREGORIAN
BEGIN:VEVENT
UID:c8a24203fb4d10c9a704ffc685c4b7e0
DTSTAMP:20260423T005134Z
SUMMARY:POM Canada Yom Yerushalayim Celebration: Honouring Our Israeli Hero
 es
DESCRIPTION:UJA Federation of Greater Toronto\nJewish Toronto Calendar\nhtt
 ps://jewishtoronto.com/calendar/pom-canada-yom-yerushalayim-celebration-ho
 nouring-our-israeli-heroes-1674144464\n\nPeace of Mind Canada Yom Yerushal
 ayim Celebration: Honouring Our Israeli Heroes
DTSTART;TZID=America/Toronto:20230518T190000
DTEND;TZID=America/Toronto:20230518T210000
END:VEVENT
END:VCALENDAR
