BEGIN:VCALENDAR
PRODID:-//eluceo/ical//2.0/EN
VERSION:2.0
CALSCALE:GREGORIAN
BEGIN:VEVENT
UID:40c1cc118fce7aefdaafc48e41a856f3
DTSTAMP:20260419T191102Z
SUMMARY:UJA | PJ Our Way Book Talk with Author Kathy Kacer
DESCRIPTION:UJA Federation of Greater Toronto\nJewish Toronto Calendar\nhtt
 ps://jewishtoronto.com/calendar/pj-our-way-book-talk-with-author-kathy-kac
 er-1707942119\n\nJoin us for an in-person book talk with local author Kath
 y Kacer! Kacer&#39\;s book The Sound of Freedom is the story of Anna Hirsc
 h\, a twelve-year-old Jewish girl and her family\, who try to find a way o
 ut of Poland in 1936 and are saved by a well-known violinist. This book is
  based on real events.\n\nRegister Now: https://www.jewishtoronto.com/even
 ts/book-talk-kathy-kacer
DTSTART;TZID=America/Toronto:20240225T160000
DTEND;TZID=America/Toronto:20240225T170000
END:VEVENT
END:VCALENDAR
