BEGIN:VCALENDAR
PRODID:-//eluceo/ical//2.0/EN
VERSION:2.0
CALSCALE:GREGORIAN
BEGIN:VEVENT
UID:a28f6f1478a3b09ecaa088d806583cc4
DTSTAMP:20260420T221233Z
SUMMARY:PJ Library-Heschel Early Years Rosh Chodesh Event
DESCRIPTION:UJA Federation of Greater Toronto\nJewish Toronto Calendar\nhtt
 ps://jewishtoronto.com/calendar/pj-library-heschel-early-years-rosh-chodes
 h-event-1694724416\n\nChildren aged 18 months to 6 years are invited to wi
 th parents/grandparents/caregivers to come and celebrate Rosh Chodesh\, ma
 rking the start of a new lunar month through music\, arts & crafts\, and m
 ore. This fun program is run by two Heschel teachers and free for the comm
 unity to attend\, brought to you in partnership with PJ Library. Please re
 gister in advance at https://www.torontoheschel.org/admissions/prospective
 -family-events.
DTSTART;TZID=America/Toronto:20231015T100000
DTEND;TZID=America/Toronto:20231015T113000
END:VEVENT
END:VCALENDAR
