BEGIN:VCALENDAR
PRODID:-//eluceo/ical//2.0/EN
VERSION:2.0
CALSCALE:GREGORIAN
BEGIN:VEVENT
UID:fcd70712540769ce11dcd260071aa2c3
DTSTAMP:20260420T022729Z
SUMMARY:PJ Library-Heschel Early Years Chanukkah party
DESCRIPTION:UJA Federation of Greater Toronto\nJewish Toronto Calendar\nhtt
 ps://jewishtoronto.com/calendar/pj-library-heschel-early-years-chanukkah-p
 arty-1694724706\n\nChildren aged 18 months to 6 years are invited to with 
 parents/grandparents/caregivers to come and celebrate Chanukkah through mu
 sic\, arts & crafts\, and more! Good fun for the whole family\, this free 
 event is hosted by Heschel teachers in partnership with PJ Library.
DTSTART;TZID=America/Toronto:20231203T100000
DTEND;TZID=America/Toronto:20231203T113000
END:VEVENT
END:VCALENDAR
