BEGIN:VCALENDAR
PRODID:-//eluceo/ical//2.0/EN
VERSION:2.0
CALSCALE:GREGORIAN
BEGIN:VEVENT
UID:a8e4f2e168feaf584883c83b4e7e8647
DTSTAMP:20260422T225039Z
SUMMARY:Paul Penna Downtown Jewish Day School Celebrates 25 Years
DESCRIPTION:UJA Federation of Greater Toronto\nJewish Toronto Calendar\nhtt
 ps://jewishtoronto.com/calendar/paul-penna-downtown-jewish-day-school-cele
 brates-25-years-1676652526\n\nPlease join 500 guests\, including our found
 ers\, alumni\, student families and community leaders who will gather for 
 an unforgettable evening of celebration and entertainment. Together we wil
 l journey down memory lane\, salute 25 years of  achievements\, and pay tr
 ibute to our outgoing board president\, Karen Rosen. Funds raised will pla
 y a critical role in ensuring the longevity and stability of Paul Penna Do
 wntown Jewish Day School. By strengthening our endowment fund\,  we will s
 ecure a stable...
DTSTART;TZID=America/Toronto:20230529T180000
DTEND;TZID=America/Toronto:20230529T210000
END:VEVENT
END:VCALENDAR
