BEGIN:VCALENDAR
PRODID:-//eluceo/ical//2.0/EN
VERSION:2.0
CALSCALE:GREGORIAN
BEGIN:VEVENT
UID:50bbe3cf1f8975f9d56fcfdca7044951
DTSTAMP:20260421T045845Z
SUMMARY:Over the Edge for Chai 2023
DESCRIPTION:UJA Federation of Greater Toronto\nJewish Toronto Calendar\nhtt
 ps://jewishtoronto.com/calendar/over-the-edge-for-chai-2023-1694200066\n\n
 ARE YOU BRAVE ENOUGH?!\n\nYou will have the unforgettable experience of ra
 ppelling down the face of the beautiful Hotel X. Located in downtown Toron
 to\, you will have the view of the city on one side and the Harbourfront o
 n the other!\n\nMust raise a minimum of $1\,800. All funds raised supports
  Chai Lifeline Canada&#39\;s clients.\n\nNo Training is Needed. No Age Res
 triction. Weight must be 100-300 lbs.\n\nWheelchair and special needs rapp
 els are available!
DTSTART;TZID=America/Toronto:20231015T093000
DTEND;TZID=America/Toronto:20231015T170000
END:VEVENT
END:VCALENDAR
