BEGIN:VCALENDAR
PRODID:-//eluceo/ical//2.0/EN
VERSION:2.0
CALSCALE:GREGORIAN
BEGIN:VEVENT
UID:78a702805e312fcd91edbd3ec2bcddc6
DTSTAMP:20260423T025659Z
SUMMARY:Open My Heart: Songs of Love for Shir Hashirim
DESCRIPTION:UJA Federation of Greater Toronto\nJewish Toronto Calendar\nhtt
 ps://jewishtoronto.com/calendar/open-my-heart-songs-of-love-for-shir-hashi
 rim-1678808082\n\n“I was asleep but my heart was awake…the voice of my
  Beloved is knocking\, let me in.” (Shir Hashirim 5:2.) \n\nOn this Shab
 bat before Pesaẖ\, we warm up our prayer space\, our homes and our heart
 s with this pre-service concert\, highlighting the beautiful poetry of Shi
 r Hashirim—Song of Songs. This musical event features Aviva Chernick\, B
 eth Tzedec&#039\;s artist-in-residence\, together with Cantor Sidney Ezer\
 , percussionist Naghmeh Farahmand and other incredible musicians from the 
 Global...
DTSTART;TZID=America/Toronto:20230331T170000
DTEND;TZID=America/Toronto:20230331T180000
END:VEVENT
END:VCALENDAR
