BEGIN:VCALENDAR
PRODID:-//eluceo/ical//2.0/EN
VERSION:2.0
CALSCALE:GREGORIAN
BEGIN:VEVENT
UID:b805904fbc8b24a042e1ca2d642d2d46
DTSTAMP:20260419T122349Z
SUMMARY:UJA Federation | Ontario Jewish Archives 50th Anniversary Event
DESCRIPTION:UJA Federation of Greater Toronto\nJewish Toronto Calendar\nhtt
 ps://jewishtoronto.com/calendar/ontario-jewish-archives-50th-anniversary-e
 vent-1701466103\n\nThis is a celebratory event offering invitees the oppor
 tunity to honour 50 years of collecting the community&#39\;s history. Th e
 vent includes an exhibition tour\, reception and a sneak-peek into the OJA
 &#39\;s rich and diverse collection.
DTSTART;TZID=America/Toronto:20240414T160000
DTEND;TZID=America/Toronto:20240414T180000
END:VEVENT
END:VCALENDAR
