BEGIN:VCALENDAR
PRODID:-//eluceo/ical//2.0/EN
VERSION:2.0
CALSCALE:GREGORIAN
BEGIN:VEVENT
UID:bc2dba7ee33123a305467595ced70571
DTSTAMP:20260419T131514Z
SUMMARY:Noar Hazak: Conquering Life's Challenges for Teens
DESCRIPTION:UJA Federation of Greater Toronto\nJewish Toronto Calendar\nhtt
 ps://jewishtoronto.com/calendar/noar-hazak-conquering-lifes-challenges-for
 -teens-1709589482\n\nLife can throw some pretty serious curveballs!\n\nJoi
 n us for a transformative Jewish empowerment session\, featuring Michal Gi
 lboa-Hermel\, a clinical psychologist\, who will guide us in developing st
 rategies to conquer life's challenges. Sherri Storm\, a registered dietiti
 an\, will share her take on "Nutrition for Well-Being: Eat Better\, Feel B
 etter" and how our food choices can impact our mood and overall well-being
 . We'll conclude with an extraordinary meditation class with Rabbi Fryer B
 odzin...
DTSTART;TZID=America/Toronto:20240317T193000
DTEND;TZID=America/Toronto:20240317T203000
END:VEVENT
END:VCALENDAR
