BEGIN:VCALENDAR
PRODID:-//eluceo/ical//2.0/EN
VERSION:2.0
CALSCALE:GREGORIAN
BEGIN:VEVENT
UID:23844064babe19090d881b84456351a4
DTSTAMP:20260421T174423Z
SUMMARY:NextGen Purim Afterparty
DESCRIPTION:UJA Federation of Greater Toronto\nJewish Toronto Calendar\nhtt
 ps://jewishtoronto.com/calendar/nextgen-purim-afterparty-1709312466\n\nNEX
 TGEN (20s & 30s)\nPurim Afterparty\nSaturday\, March 23 at 9.00 p.m.\n\n7.
 00 p.m.\nHavdalah and Honouring Judih Weinstein Haggai\nMegillah Reading (
 with clergy and lay readers) and Purim Spiel\n\nTemple Sinai Family Feud (
 hosted by Shaina Silver-Baird of “Less Than Kosher”)\n\nBe sure to sti
 ck around after our Purim game show and join Rabbi Jordan Shaner for an ex
 clusive meet-and-greet with Shaina Silver-Baird\, followed by a film scree
 ning of Less Than Kosher in our Fanny Green Hall.\n...
DTSTART;TZID=America/Toronto:20240323T190000
DTEND;TZID=America/Toronto:20240323T230000
END:VEVENT
END:VCALENDAR
