BEGIN:VCALENDAR
PRODID:-//eluceo/ical//2.0/EN
VERSION:2.0
CALSCALE:GREGORIAN
BEGIN:VEVENT
UID:ce5b6d008ca68128b1c4b0d27ef4d4be
DTSTAMP:20260421T130126Z
SUMMARY:NEXTGEN (20s & 30s) Cinema @ Sinai: A Less than Kosher Screening
DESCRIPTION:UJA Federation of Greater Toronto\nJewish Toronto Calendar\nhtt
 ps://jewishtoronto.com/calendar/nextgen-20s--30s-cinema--sinai-a-less-than
 -kosher-screening-1695151035\n\nTEMPLE SINAI NEXTGEN (20s & 30s)\nCinema @
  Sinai: A Less than Kosher Screening\nThursday\, October 26\, 2023\n7.00 p
 .m.\nTemple Sinai NEXTGEN members and friends won’t want to miss this on
 e-night-only screening of the 2023 Toronto Jewish Film Festival “Chosen 
 Film”\, Less than Kosher.\nA musical comedy about modern Jewish life\, u
 nabashedly set in Toronto\, Less Than Kosher is the story of Viv\, who at 
 20\, was a promising singer. Now 30\, her failing music career has forced 
 her back into her m...
DTSTART;TZID=America/Toronto:20231026T190000
DTEND;TZID=America/Toronto:20231026T220000
END:VEVENT
END:VCALENDAR
