BEGIN:VCALENDAR
PRODID:-//eluceo/ical//2.0/EN
VERSION:2.0
CALSCALE:GREGORIAN
BEGIN:VEVENT
UID:9346e071771b0e0d6d1267f2961b0ff0
DTSTAMP:20260425T225823Z
SUMMARY:Netivot HaTorah OPEN HOUSE - North Campus
DESCRIPTION:UJA Federation of Greater Toronto\nJewish Toronto Calendar\nhtt
 ps://jewishtoronto.com/calendar/netivot-hatorah-open-house---north-campus-
 1657294518\n\nNetivot HaTorah Day School North Campus Open House - Join us
 ! To RSVP or arrange a personal visit please contact Mashie Feintuch\, Dir
 ector of Admissions 905-771-1234 ext.234 or admissions@netivot.com
DTSTART;TZID=America/Toronto:20221026T200000
DTEND;TZID=America/Toronto:20221026T210000
END:VEVENT
END:VCALENDAR
