BEGIN:VCALENDAR
PRODID:-//eluceo/ical//2.0/EN
VERSION:2.0
CALSCALE:GREGORIAN
BEGIN:VEVENT
UID:4a1d2566e6ec19506ad733e4f01d95be
DTSTAMP:20260421T193117Z
SUMMARY:MNJCC Judaism 101
DESCRIPTION:UJA Federation of Greater Toronto\nJewish Toronto Calendar\nhtt
 ps://jewishtoronto.com/calendar/mnjcc-judaism-101-1681238813\n\nJudaism 10
 1 is an intro to Judaism class for everyone! It welcomes those who identif
 y as Jewish or not\, and those who have prior knowledge of Judaism or don&
 #039\;t. The eight-part class explores the "Jewish bookshelf" and foundati
 onal topics of Jewish living\, including Shabbat\, the year cycle\, lifecy
 cle events\, synagogue\, and spirituality. This course is offered virtuall
 y on Zoom.
DTSTART;TZID=America/Toronto:20230420T190000
DTEND;TZID=America/Toronto:20230420T203000
END:VEVENT
END:VCALENDAR
