BEGIN:VCALENDAR
PRODID:-//eluceo/ical//2.0/EN
VERSION:2.0
CALSCALE:GREGORIAN
BEGIN:VEVENT
UID:ec303fba0f502e50a1a468d100c69855
DTSTAMP:20260421T070941Z
SUMMARY:Mental HELLth - Standup Comedy in Support of CAMH
DESCRIPTION:UJA Federation of Greater Toronto\nJewish Toronto Calendar\nhtt
 ps://jewishtoronto.com/calendar/mental-hellth---standup-comedy-in-support-
 of-camh-1693791552\n\nRyGuy Comedy presents Mental HELLth\, the stand-up c
 omedy showcase where professional comedians prove that laughter truly is t
 he best medicine\, breaking mental health stigma with humour and heart!\n\
 nPlease join us for a hilarious evening of comedy that will both entertain
  and inspire\, all while raising money for an amazing cause! I am proud to
  announce that all proceeds from ticket sales will be donated to CAMH\, th
 e Centre For Addiction And Mental Health!\n\nSince the show&#39\;s incepti
 on\, we&#39\;ve ...
DTSTART;TZID=America/Toronto:20231012T190000
DTEND;TZID=America/Toronto:20231012T203000
END:VEVENT
END:VCALENDAR
