BEGIN:VCALENDAR
PRODID:-//eluceo/ical//2.0/EN
VERSION:2.0
CALSCALE:GREGORIAN
BEGIN:VEVENT
UID:abdf21d0138904ffc4ab0d44a06974cf
DTSTAMP:20260423T000110Z
SUMMARY:Mental HELLth - A Mental Health Comedy Fundraiser for CAMH
DESCRIPTION:UJA Federation of Greater Toronto\nJewish Toronto Calendar\nhtt
 ps://jewishtoronto.com/calendar/mental-hellth---a-mental-health-comedy-fun
 draiser-for-camh-1673555403\n\nRyGuy Comedy presents Mental HELLth\, a com
 edy showcase where professional stand-up comedians find the humour in thei
 r lived experience with mental health and addiction.Tickets are available 
 at https://ryguycomedy.eventbrite.comThis showcase is hosted by me\, Ryan 
 Zeitz - aka The RyGuy. I am a comedian\, peer support worker\, and mental 
 health advocate living with bipolar disorder and ADHD. This show is very n
 ear and dear to me\, and I am proud to announce that net proceeds from all
  ticket sales w...
DTSTART;TZID=America/Toronto:20230201T193000
DTEND;TZID=America/Toronto:20230201T210000
END:VEVENT
END:VCALENDAR
