BEGIN:VCALENDAR
PRODID:-//eluceo/ical//2.0/EN
VERSION:2.0
CALSCALE:GREGORIAN
BEGIN:VEVENT
UID:868be138a447019f3315474cc794301d
DTSTAMP:20260421T000621Z
SUMMARY:Meeting the Moment: Supporting Jewish Teens in the Face of Antisemi
 tism
DESCRIPTION:UJA Federation of Greater Toronto\nJewish Toronto Calendar\nhtt
 ps://jewishtoronto.com/calendar/meeting-the-moment-supporting-jewish-teens
 -in-the-face-of-antisemitism-1702325106\n\nJoin Dr. Samantha Vinokor-Meinr
 ath for a timely and timeless conversation on how we as parents and caregi
 vers can best support our children in the face of the rising antisemitism 
 that the world is experiencing at this moment. Using research\, personal s
 tories\, and an intimate knowledge of Generation Z\, Samantha will unpack 
 what we need to know\, and how we can meet our loved ones where they are a
 t this critical moment.\n\nPre-registration required\, cost is $10/person.
  To register\, visit...
DTSTART;TZID=America/Toronto:20231219T193000
DTEND;TZID=America/Toronto:20231219T203000
END:VEVENT
END:VCALENDAR
