BEGIN:VCALENDAR
PRODID:-//eluceo/ical//2.0/EN
VERSION:2.0
CALSCALE:GREGORIAN
BEGIN:VEVENT
UID:09748bb13fe9d57a265c459472b8e07e
DTSTAMP:20260423T082352Z
SUMMARY:Machane Lev Summer Camp Open House
DESCRIPTION:UJA Federation of Greater Toronto\nJewish Toronto Calendar\nhtt
 ps://jewishtoronto.com/calendar/machane-lev-summer-camp-open-house-1675952
 837\n\nWe will be hosting a virtual open house on Sunday February 26 from 
 12-1pm. Come join us to learn more about Machane Lev (Canada&#039\;s only 
 LGBTQ+ Jewish camp)\, meet members of our head staff team\, and answer any
  questions that you (or your child) might have about camp!REGISTER HERE: h
 ttps://us02web.zoom.us/meeting/register/tZwkfuGvqDgrE93IBeeEZv9-d9jtSfsn_c
 gN
DTSTART;TZID=America/Toronto:20230226T120000
DTEND;TZID=America/Toronto:20230226T130000
END:VEVENT
END:VCALENDAR
