BEGIN:VCALENDAR
PRODID:-//eluceo/ical//2.0/EN
VERSION:2.0
CALSCALE:GREGORIAN
BEGIN:VEVENT
UID:5a1ad7e10e3e97a15d39d38fe7332f81
DTSTAMP:20260420T210605Z
SUMMARY:L’khu N’ran’nah: Lets Sing! A Public Rehearsal Session with T
 he HarmonEzers
DESCRIPTION:UJA Federation of Greater Toronto\nJewish Toronto Calendar\nhtt
 ps://jewishtoronto.com/calendar/lkhu-nrannah-lets-sing-a-public-rehearsal-
 session-with-the-harmonezers-1716909701\n\nCome experience an open rehears
 al with Cantor Sidney\, Asher Farber\, and the HarmonEzers on Friday morni
 ng\, where together we will all learn and practice the melodies we will be
  singing later that evening. At Kabbalat Shabbat services\, before we offi
 cially welcome in Shabbat\, our voices and prayers will be elevated alongs
 ide piano accompaniment and the HarmonEzers\, as we encourage active commu
 nal singing and participation.\n\nThere is no charge. Everyone is welcome.
DTSTART;TZID=America/Toronto:20240614T100000
DTEND;TZID=America/Toronto:20240614T120000
END:VEVENT
END:VCALENDAR
