BEGIN:VCALENDAR
PRODID:-//eluceo/ical//2.0/EN
VERSION:2.0
CALSCALE:GREGORIAN
BEGIN:VEVENT
UID:e3121d9a9ced848562f6f19b7080748a
DTSTAMP:20260420T174417Z
SUMMARY:L’khu N’ran’nah: Lets Sing! A Public Rehearsal Session with T
 he HarmonEzers
DESCRIPTION:UJA Federation of Greater Toronto\nJewish Toronto Calendar\nhtt
 ps://jewishtoronto.com/calendar/lkhu-nrannah-lets-sing-a-public-rehearsal-
 session-with-the-harmonezers-1716909472\n\nCome experience an open rehears
 al with Cantor Sidney\, Asher Farber\, and the HarmonEzers on Friday morni
 ng\, where together we will all learn and practice the melodies we will be
  singing later that evening. At Kabbalat Shabbat services\, before we offi
 cially welcome in Shabbat\, our voices and prayers will be elevated alongs
 ide piano accompaniment and the HarmonEzers\, as we encourage active commu
 nal singing and participation.\n\nThere is no charge. Everyone is welcome.
 \n\nUPCOMING...
DTSTART;TZID=America/Toronto:20240531T100000
DTEND;TZID=America/Toronto:20240531T120000
END:VEVENT
END:VCALENDAR
