BEGIN:VCALENDAR
PRODID:-//eluceo/ical//2.0/EN
VERSION:2.0
CALSCALE:GREGORIAN
BEGIN:VEVENT
UID:450f1cd1f8b2fbcf252d87196d79fc28
DTSTAMP:20260422T153915Z
SUMMARY:Limmud Toronto
DESCRIPTION:UJA Federation of Greater Toronto\nJewish Toronto Calendar\nhtt
 ps://jewishtoronto.com/calendar/limmud-toronto-1674790397\n\n“Limmud” 
 means “learning” – and that’s what it’s all about.\n\nAt Limmud 
 you can craft your own Jewish experience\, explore your connection to Jewi
 sh ideas and traditions\, and meet people who share your curiosity and ent
 husiasm.\n\nReflecting the diversity\, talent and energy of Canada’s big
 gest city\, and biggest Jewish community\, Limmud Toronto is multicultural
 \, multidenominational and multimedia-- a one of a kind festival experienc
 e celebrating all of the richness that Jewish...
DTSTART;TZID=America/Toronto:20230430T083000
DTEND;TZID=America/Toronto:20230430T190000
END:VEVENT
END:VCALENDAR
