BEGIN:VCALENDAR
PRODID:-//eluceo/ical//2.0/EN
VERSION:2.0
CALSCALE:GREGORIAN
BEGIN:VEVENT
UID:5e2e6c8b7815e71350c6915093942dec
DTSTAMP:20260424T100345Z
SUMMARY:Let's Process Mother's Day
DESCRIPTION:UJA Federation of Greater Toronto\nJewish Toronto Calendar\nhtt
 ps://jewishtoronto.com/calendar/lets-process-mothers-day-1681417344\n\nThr
 ee free\, virtual art-making rituals: for those who have lost mothers\, fo
 r those who identify as a mother\, and for those who have chosen not to pa
 rent.\n\nMother’s Day can elicit many different feelings including joy\,
  grief and everything in between. We invite you to choose from three concu
 rrent 90-minute gatherings that will explore the many emotions of this day
 . Each session will draw on the Jewish Studio Process - a unique methodolo
 gy combining practices from the field of art therapy w...
DTSTART;TZID=America/Toronto:20230514T130000
DTEND;TZID=America/Toronto:20230514T143000
END:VEVENT
END:VCALENDAR
