BEGIN:VCALENDAR
PRODID:-//eluceo/ical//2.0/EN
VERSION:2.0
CALSCALE:GREGORIAN
BEGIN:VEVENT
UID:d2dca1a655c4bbde58e817eb2fa16674
DTSTAMP:20260423T013733Z
SUMMARY:Learn to Chant a Haftarah! with Lorne Hanick
DESCRIPTION:UJA Federation of Greater Toronto\nJewish Toronto Calendar\nhtt
 ps://jewishtoronto.com/calendar/learn-to-chant-a-haftarah-with-lorne-hanic
 k-1672414076\n\nMonday evenings at 7:45 pm\n(No class sessions on February
  20 and March 6)\n\nRitual director Lorne Hanick leads this beginner’s c
 ourse on cantillation trope in general and the application of the cantilla
 tion to learning to chant haftarah (the prophetic reading that follows the
  Torah reading on Shabbat\, festivals and other special days.  \n\nReading
  knowledge of Hebrew is required. The learning materials and sample texts 
 will be provided. The goal is that you learn a haftarah to chant...
DTSTART;TZID=America/Toronto:20230109T194500
DTEND;TZID=America/Toronto:20230109T210000
END:VEVENT
END:VCALENDAR
