BEGIN:VCALENDAR
PRODID:-//eluceo/ical//2.0/EN
VERSION:2.0
CALSCALE:GREGORIAN
BEGIN:VEVENT
UID:0396eadab08a4a488c47138aedecce3f
DTSTAMP:20260423T031303Z
SUMMARY:Learn Talmud with Reb Steve
DESCRIPTION:UJA Federation of Greater Toronto\nJewish Toronto Calendar\nhtt
 ps://jewishtoronto.com/calendar/learn-talmud-with-reb-steve-1673882999\n\n
 One of Judaism’s greatest strengths is its affinity for diverse opinions
  and the debate\, for the “sake of Heaven” to implement God’s will i
 n our lives. The Talmud is the source from which this affinity for debate 
 and the code of Jewish halakhah (law) is derived.\n\nFor many\, the study 
 of Talmud can seem overwhelming. With Rabbi Steve Wernick\, we will learn 
 at a slow and deliberate pace\, sequentially studying a single page of Tal
 mud throughout the week.\n\nNo charge but...
DTSTART;TZID=America/Toronto:20230116T193000
DTEND;TZID=America/Toronto:20230116T210000
END:VEVENT
END:VCALENDAR
