BEGIN:VCALENDAR
PRODID:-//eluceo/ical//2.0/EN
VERSION:2.0
CALSCALE:GREGORIAN
BEGIN:VEVENT
UID:9aec9b4ebfe1e2633d39c0f6e9bbcf80
DTSTAMP:20260420T183728Z
SUMMARY:Learn How To Defend Israel
DESCRIPTION:UJA Federation of Greater Toronto\nJewish Toronto Calendar\nhtt
 ps://jewishtoronto.com/calendar/learn-how-to-defend-israel-1699983527\n\nA
  Workshop to Debunk Classic Lies about Israel and Jews led by Mike Fegelma
 n\, editor in chief of Honest Reporting Canada
DTSTART;TZID=America/Toronto:20231121T193000
DTEND;TZID=America/Toronto:20231121T213000
END:VEVENT
END:VCALENDAR
