BEGIN:VCALENDAR
PRODID:-//eluceo/ical//2.0/EN
VERSION:2.0
CALSCALE:GREGORIAN
BEGIN:VEVENT
UID:53887ffc1dc5e59f8b03a4d9d26c2975
DTSTAMP:20260420T165728Z
SUMMARY:Lawyers Uniting against Antisemitism and Rising Hate in Canada
DESCRIPTION:UJA Federation of Greater Toronto\nJewish Toronto Calendar\nhtt
 ps://jewishtoronto.com/calendar/lawyers-uniting-against-antisemitism-and-r
 ising-hate-in-canada-1715896225\n\nThe event&#39\;s theme\, "Lawyers Uniti
 ng against Antisemitism and Rising Hate in Canada\," reflects the event&#3
 9\;s commitment to standing together as a united front against hate. It wi
 ll feature speakers including the Hon. Doug Downey\, David Matlow\, Kathry
 n Marshall\, Katherine Stephenson\, Justin Lapedus\, Karen Restoule and Ra
 chel Silber. The event will provide all guests with an open bar and food. 
 Additionally\, there will be ample opportunities for networking and meanin
 gful discussions to foster colla...
DTSTART;TZID=America/Toronto:20240529T190000
DTEND;TZID=America/Toronto:20240529T230000
END:VEVENT
END:VCALENDAR
