BEGIN:VCALENDAR
PRODID:-//eluceo/ical//2.0/EN
VERSION:2.0
CALSCALE:GREGORIAN
BEGIN:VEVENT
UID:25b1e8db28d0afa28339d889aa52c245
DTSTAMP:20260422T224905Z
SUMMARY:Laughs at the J: Jews on the Roof
DESCRIPTION:UJA Federation of Greater Toronto\nJewish Toronto Calendar\nhtt
 ps://jewishtoronto.com/calendar/laughs-at-the-j-jews-on-the-roof-169177954
 2\n\nA hilarious lineup of Jewish comedic talent from all over Canada. The
  program is headlined by Eli Lebowicz and features Simon Rakoff\, and Kate
  Davis\, and hosted by Howard Glassman. Join us for a night of laughs and 
 chutzpah – though we can’t promise it’ll all be kosher!
DTSTART;TZID=America/Toronto:20230910T200000
DTEND;TZID=America/Toronto:20230910T220000
END:VEVENT
END:VCALENDAR
