BEGIN:VCALENDAR
PRODID:-//eluceo/ical//2.0/EN
VERSION:2.0
CALSCALE:GREGORIAN
BEGIN:VEVENT
UID:a89e73cb3eeecf825277343b91e2ebaf
DTSTAMP:20260423T014717Z
SUMMARY:Laugh at the J: Jewish Princesses
DESCRIPTION:UJA Federation of Greater Toronto\nJewish Toronto Calendar\nhtt
 ps://jewishtoronto.com/calendar/laugh-at-the-j-jewish-princesses-167881621
 0\n\nItâ€™s a night of Jewish princess power\, featuring an all-star cast 
 of women whose laughter\, wisdom and style prove that every Jewish girl is
  a queen.Hï»¿osted by: Natalie NormanNatalie Norman is from Toronto\, Cana
 da and her witty jokes and outrageous storytelling is a force of nature. N
 atalieâ€™s comedy is often political\, always hilarious and very Jewish. S
 he is a Spice Girls enthusiast\, who loves talking about her period. Natal
 ie has been featured in Post City Magazine â€œ Meet a Comedianâ...
DTSTART;TZID=America/Toronto:20230319T200000
DTEND;TZID=America/Toronto:20230319T220000
END:VEVENT
END:VCALENDAR
