BEGIN:VCALENDAR
PRODID:-//eluceo/ical//2.0/EN
VERSION:2.0
CALSCALE:GREGORIAN
BEGIN:VEVENT
UID:54a6d5869972626063de8dd798f0101e
DTSTAMP:20260423T000213Z
SUMMARY:Koffler Gallery: World-premiere exhibition of The Synagogue at Baby
 n Yar
DESCRIPTION:UJA Federation of Greater Toronto\nJewish Toronto Calendar\nhtt
 ps://jewishtoronto.com/calendar/koffler-gallery-world-premiere-exhibition-
 of-the-synagogue-at-babyn-yar-1678996859\n\nBabyn Yar is a 160-hectare sit
 e in Kyiv\, Ukraine where the first large-scale massacre of the Holocaust 
 occurred in 1941. The multi-disciplinary exhibition tells the story of the
  Babyn Yar Synagogue in its full historical\, political\, artistic and spi
 ritual contexts for the first time. \n\nThe exhibition at the Koffler Gall
 ery opens on April 17th\, the eve of Yom HaShoah\, Holocaust Memorial Day\
 , and will run to the end of Holocaust Education Week on November 12th\, 2
 023. It will link three...
DTSTART;TZID=America/Toronto:20230417T190000
DTEND;TZID=America/Toronto:20230417T210000
END:VEVENT
END:VCALENDAR
