BEGIN:VCALENDAR
PRODID:-//eluceo/ical//2.0/EN
VERSION:2.0
CALSCALE:GREGORIAN
BEGIN:VEVENT
UID:5f7d311adbb1c7ad831505420f283901
DTSTAMP:20260419T140540Z
SUMMARY:UJA Kneading History | An Intergenerational Challah Bake
DESCRIPTION:UJA Federation of Greater Toronto\nJewish Toronto Calendar\nhtt
 ps://jewishtoronto.com/calendar/kneading-history--an-intergenerational-cha
 llah-bake-1703007192\n\nJoin the Toronto Holocaust Museum for an inspiring
  evening of connection and reflection with Holocaust survivors and communi
 ty members. Together\, we will honour and preserve the tradition of making
  challah\, the Shabbat braided egg bread\, and connect with the rich histo
 ry of prewar Jewish life. Challah making will be interspersed with reflect
 ions on the place and continuity of Jewish food traditions in our modern l
 ives.
DTSTART;TZID=America/Toronto:20240201T190000
DTEND;TZID=America/Toronto:20240201T220000
END:VEVENT
END:VCALENDAR
