BEGIN:VCALENDAR
PRODID:-//eluceo/ical//2.0/EN
VERSION:2.0
CALSCALE:GREGORIAN
BEGIN:VEVENT
UID:e891b0a1c61372c9a005c7c3187831d7
DTSTAMP:20260420T165412Z
SUMMARY:Karen Stintz Community Event
DESCRIPTION:UJA Federation of Greater Toronto\nJewish Toronto Calendar\nhtt
 ps://jewishtoronto.com/calendar/karen-stintz-community-event-1713368256\n\
 nChairs - Randi Woloz\, Irene Boudarov
DTSTART;TZID=America/Toronto:20240521T190000
DTEND;TZID=America/Toronto:20240521T210000
END:VEVENT
END:VCALENDAR
