BEGIN:VCALENDAR
PRODID:-//eluceo/ical//2.0/EN
VERSION:2.0
CALSCALE:GREGORIAN
BEGIN:VEVENT
UID:afd2c70477369955fb4ed0c88946d39e
DTSTAMP:20260422T063639Z
SUMMARY:JNF Tu Bi'Shevat Telethon
DESCRIPTION:UJA Federation of Greater Toronto\nJewish Toronto Calendar\nhtt
 ps://jewishtoronto.com/calendar/jnf-tu-bishevat-telethon-1704403337\n\nJNF
  Follow up Telethon. Calls will be made to donors that we didn&#039\;t rea
 ch on Sunday
DTSTART;TZID=America/Toronto:20240129T180000
DTEND;TZID=America/Toronto:20240129T203000
END:VEVENT
END:VCALENDAR
