BEGIN:VCALENDAR
PRODID:-//eluceo/ical//2.0/EN
VERSION:2.0
CALSCALE:GREGORIAN
BEGIN:VEVENT
UID:96fb89bb5b89c9bc4af68c0763889f5a
DTSTAMP:20260423T013738Z
SUMMARY:JNF Tu Bi'Shevat Telethon
DESCRIPTION:UJA Federation of Greater Toronto\nJewish Toronto Calendar\nhtt
 ps://jewishtoronto.com/calendar/jnf-tu-bishevat-telethon-1668709761\n\nCan
  you also please post for Monday Feb 6th 6:30 pm - 8:30 pm   and Wednesday
  Feb 8th 6:30 pm - 8:30 pm
DTSTART;TZID=America/Toronto:20230205T093000
DTEND;TZID=America/Toronto:20230205T160000
END:VEVENT
END:VCALENDAR
