BEGIN:VCALENDAR
PRODID:-//eluceo/ical//2.0/EN
VERSION:2.0
CALSCALE:GREGORIAN
BEGIN:VEVENT
UID:d50e9f49b989a55ef4a835233b69bcb7
DTSTAMP:20260420T165357Z
SUMMARY:JNF Tu Bi Shevat Telethon
DESCRIPTION:UJA Federation of Greater Toronto\nJewish Toronto Calendar\nhtt
 ps://jewishtoronto.com/calendar/jnf-tu-bi-shevat-telethon-1704403176\n\nJN
 F will be making calls to Donors to raise funds for some very special proj
 ects for Israel. Sign up at jnftoronto.ca
DTSTART;TZID=America/Toronto:20240128T100000
DTEND;TZID=America/Toronto:20240128T150000
END:VEVENT
END:VCALENDAR
