BEGIN:VCALENDAR
PRODID:-//eluceo/ical//2.0/EN
VERSION:2.0
CALSCALE:GREGORIAN
BEGIN:VEVENT
UID:7482d44473a60149ac18ea307aab6eeb
DTSTAMP:20260421T091805Z
SUMMARY:JNF Toronto: Future Golf Tournament
DESCRIPTION:UJA Federation of Greater Toronto\nJewish Toronto Calendar\nhtt
 ps://jewishtoronto.com/calendar/jnf-toronto-future-golf-tournament-1678307
 731\n\nJNF Future is hosting their 6th annual Future Golf Tournament at Co
 pper Creek Golf Course. Copper Creek is one of Canada’s best public golf
  courses\, ranked amongst the top 50 golf courses in the country. The cour
 se is set in the picturesque Humber River Valley\, in the town of Kleinbur
 g\, just north of Toronto. Your ticket will include cart and play\, lunch\
 , dinner reception and interactive activities throughout the day! Date: Tu
 esday\, August 22\, 2023 Registration & Lunch: 12:00 PM  Shotgun St...
DTSTART;TZID=America/Toronto:20230822T120000
DTEND;TZID=America/Toronto:20230822T200000
END:VEVENT
END:VCALENDAR
