BEGIN:VCALENDAR
PRODID:-//eluceo/ical//2.0/EN
VERSION:2.0
CALSCALE:GREGORIAN
BEGIN:VEVENT
UID:d9b1580e41dac4484ac45e3cf84c6e52
DTSTAMP:20260420T084317Z
SUMMARY:JNF Toronto: Blue Box Day
DESCRIPTION:UJA Federation of Greater Toronto\nJewish Toronto Calendar\nhtt
 ps://jewishtoronto.com/calendar/jnf-toronto-blue-box-day-1679517389\n\nJNF
  Toronto is hosting their annual Blue Box Day!\n\nDon&#39\;t have a Blue B
 ox? Contact us today to obtain one!
DTSTART;TZID=America/Toronto:20231203T110000
DTEND;TZID=America/Toronto:20231203T170000
END:VEVENT
END:VCALENDAR
