BEGIN:VCALENDAR
PRODID:-//eluceo/ical//2.0/EN
VERSION:2.0
CALSCALE:GREGORIAN
BEGIN:VEVENT
UID:3f83de9ac7a516c939fdddd798a4b862
DTSTAMP:20260425T210807Z
SUMMARY:JNF Negev Dinner
DESCRIPTION:UJA Federation of Greater Toronto\nJewish Toronto Calendar\nhtt
 ps://jewishtoronto.com/calendar/jnf-negev-dinner-1634578807\n\nJNF&#39\;s 
 74th annual Negev Dinner.
DTSTART;TZID=America/Toronto:20221113T180000
DTEND;TZID=America/Toronto:20221113T213000
END:VEVENT
END:VCALENDAR
