BEGIN:VCALENDAR
PRODID:-//eluceo/ical//2.0/EN
VERSION:2.0
CALSCALE:GREGORIAN
BEGIN:VEVENT
UID:60b352174ba92c4061efebe5ef9c3aff
DTSTAMP:20260421T021457Z
SUMMARY:JNF Negev Community Launch
DESCRIPTION:UJA Federation of Greater Toronto\nJewish Toronto Calendar\nhtt
 ps://jewishtoronto.com/calendar/jnf-negev-community-launch-1688132107\n\nT
 he Negev Community Launch event is open to the whole community to hear a s
 peaker of interest and to learn more about the Negev Dinner honouring Harl
 ey Mintz. This year&#39\;s Negev project is the Climate Solutions Prize po
 wered by JNF.
DTSTART;TZID=America/Toronto:20230913T190000
DTEND;TZID=America/Toronto:20230913T210000
END:VEVENT
END:VCALENDAR
