BEGIN:VCALENDAR
PRODID:-//eluceo/ical//2.0/EN
VERSION:2.0
CALSCALE:GREGORIAN
BEGIN:VEVENT
UID:29aaa9dd54bbdd43f677c4368127184b
DTSTAMP:20260422T113225Z
SUMMARY:JNF Future: Tel Aviv Nights
DESCRIPTION:UJA Federation of Greater Toronto\nJewish Toronto Calendar\nhtt
 ps://jewishtoronto.com/calendar/jnf-future-tel-aviv-nights-1679516065\n\nB
 e sure to become a Future Ambassador to receive your exclusive discount on
  events like Tel Aviv Nights!  \n\nJoin now:\nhttps://jnf.ca/future/campai
 gns.asp?c=1&amp\;id=36
DTSTART;TZID=America/Toronto:20230622T200000
DTEND;TZID=America/Toronto:20230623T000000
END:VEVENT
END:VCALENDAR
