BEGIN:VCALENDAR
PRODID:-//eluceo/ical//2.0/EN
VERSION:2.0
CALSCALE:GREGORIAN
BEGIN:VEVENT
UID:0fb1c18e9d63ad2d8be1bf4eeebc65ef
DTSTAMP:20260422T145916Z
SUMMARY:JNF Future: Tech Shuk (HOLD)
DESCRIPTION:UJA Federation of Greater Toronto\nJewish Toronto Calendar\nhtt
 ps://jewishtoronto.com/calendar/jnf-future-tech-shuk-hold-1669672516\n\nJN
 F Future will host Tech Shuk. Details to follow.
DTSTART;TZID=America/Toronto:20230518T180000
DTEND;TZID=America/Toronto:20230518T220000
END:VEVENT
END:VCALENDAR
