BEGIN:VCALENDAR
PRODID:-//eluceo/ical//2.0/EN
VERSION:2.0
CALSCALE:GREGORIAN
BEGIN:VEVENT
UID:c124e7e428abab7984f0bea3b65a950b
DTSTAMP:20260420T165713Z
SUMMARY:JNF Future: Shabbat Under the Stars 2024
DESCRIPTION:UJA Federation of Greater Toronto\nJewish Toronto Calendar\nhtt
 ps://jewishtoronto.com/calendar/jnf-future-shabbat-under-the-stars-2024-17
 16383197\n\nJoin us on Friday\, June 14th as JNF Future invites you to our
  Shabbat Under the Stars - an exclusive Shabbat Dinner for our young profe
 ssionals!\n\nThere will be limited spots available and you must be within 
 our &#39\;Future&#39\; age which is 22 to 40 years old.\n\nKashrut observe
 d.\n\nEvent Details:\nDate: Friday\, June 14\, 2024\nTime: 7:30 PM\nLocati
 on: To be disclosed closer to the event date (North York area).\n\nPlease 
 register by Friday\, May 31\, 2024.
DTSTART;TZID=America/Toronto:20240614T193000
DTEND;TZID=America/Toronto:20240614T213000
END:VEVENT
END:VCALENDAR
