BEGIN:VCALENDAR
PRODID:-//eluceo/ical//2.0/EN
VERSION:2.0
CALSCALE:GREGORIAN
BEGIN:VEVENT
UID:837ffcbe27c950928fc9565d5afc2ede
DTSTAMP:20260423T011758Z
SUMMARY:JNF Future: Ambassador Program
DESCRIPTION:UJA Federation of Greater Toronto\nJewish Toronto Calendar\nhtt
 ps://jewishtoronto.com/calendar/jnf-future-ambassador-program-1679515656\n
 \nBecome an Ambassador today:\nhttps://jnf.ca/future/campaigns.asp?c=1&amp
 \;id=36
DTSTART;TZID=America/Toronto:20230511T193000
DTEND;TZID=America/Toronto:20230511T213000
END:VEVENT
END:VCALENDAR
