BEGIN:VCALENDAR
PRODID:-//eluceo/ical//2.0/EN
VERSION:2.0
CALSCALE:GREGORIAN
BEGIN:VEVENT
UID:9e2492064ce15b3eddda8738eeaa9f7f
DTSTAMP:20260421T162651Z
SUMMARY:JNF Future: 2nd annual Women Who Slay
DESCRIPTION:UJA Federation of Greater Toronto\nJewish Toronto Calendar\nhtt
 ps://jewishtoronto.com/calendar/jnf-future-2nd-annual-women-who-slay-17054
 30592\n\nJNF Future is hosting their 2nd annual Women Who Slay event on Su
 nday\, March 3rd.\n\nRegistration will open soon.\n\nCheckout our Future E
 vents webpage here:\nhttps://jnf.ca/future/events.asp
DTSTART;TZID=America/Toronto:20240303T110000
DTEND;TZID=America/Toronto:20240303T133000
END:VEVENT
END:VCALENDAR
