BEGIN:VCALENDAR
PRODID:-//eluceo/ical//2.0/EN
VERSION:2.0
CALSCALE:GREGORIAN
BEGIN:VEVENT
UID:f75ed47d7aeaac24d504f519fcd48f33
DTSTAMP:20260420T185618Z
SUMMARY:JNF Families Mission to Israel
DESCRIPTION:UJA Federation of Greater Toronto\nJewish Toronto Calendar\nhtt
 ps://jewishtoronto.com/calendar/jnf-families-mission-to-israel-1675115633\
 n\nJoin JNF Families on an unforgettable Israel Experience. As part of the
  mission\, families with Bar/Bat Mitzvah aged children can participate in 
 a special ceremony including an aliyah to the Torah in Jerusalem. The miss
 ion ends in Eilat for some free time and possible extensions.
DTSTART;TZID=America/Toronto:20231224T090000
DTEND;TZID=America/Toronto:20240103T110000
END:VEVENT
END:VCALENDAR
