BEGIN:VCALENDAR
PRODID:-//eluceo/ical//2.0/EN
VERSION:2.0
CALSCALE:GREGORIAN
BEGIN:VEVENT
UID:56206935d54687f5449754682686bfb7
DTSTAMP:20260419T170934Z
SUMMARY:Jill Culiner talk on book: "Those Absent on the Great Hungarian Pla
 in"
DESCRIPTION:UJA Federation of Greater Toronto\nJewish Toronto Calendar\nhtt
 ps://jewishtoronto.com/calendar/jill-culiner-talk-on-book-those-absent-on-
 the-great-hungarian-plain-1707149471\n\nThe Toronto Workmen's Circle Found
 ation hosts Jill Culiner\, artist\, writer and photographer\, speaking abo
 ut her new book.  A Hungarian village on the Great Plain: a microcosm refl
 ecting this country's history from early tribal invasion to Soviet subordi
 nation to European Community membership\, and the story of its vanished Je
 ws.\n\nThis is a Zoom webinar. To register by February 23rd go to: https:/
 /tinyurl.com/Culiner
DTSTART;TZID=America/Toronto:20240225T140000
DTEND;TZID=America/Toronto:20240225T153000
END:VEVENT
END:VCALENDAR
