BEGIN:VCALENDAR
PRODID:-//eluceo/ical//2.0/EN
VERSION:2.0
CALSCALE:GREGORIAN
BEGIN:VEVENT
UID:a97910f45c87523497bb779fb8a7911b
DTSTAMP:20260423T120143Z
SUMMARY:JGS Toronto and Classi Lectures - The Jews of Poland
DESCRIPTION:UJA Federation of Greater Toronto\nJewish Toronto Calendar\nhtt
 ps://jewishtoronto.com/calendar/jgs-toronto-and-classi-lectures---the-jews
 -of-poland-1696016914\n\nJEWISH GENEALOGICAL SOCIETY OF TORONTO\nand CLASS
 I LECTURES\n\nPRESENT\n\nGLOBAL HERITAGE SPECIAL INTEREST GROUP (SIG)\n\nT
 he Jews of Poland\nPart 2. The Miracles of Peace – scholarship abounds\n
 Speaker: Trudy Gold\n\nWednesday\, 18 Oct 2023\, 4-5 p.m. ET\nVIRTUAL MEET
 ING: Join from Home
DTSTART;TZID=America/Toronto:20231018T160000
DTEND;TZID=America/Toronto:20231018T170000
END:VEVENT
END:VCALENDAR
